BEGIN:VCALENDAR
VERSION:2.0
PRODID:-//ZContent.net//Zap Calendar 1.0//EN
CALSCALE:GREGORIAN
METHOD:PUBLISH
BEGIN:VEVENT
LOCATION:7905 Big Bend Blvd\, Webster Groves\, MO 63119
DESCRIPTION:Kristy Boyce &#8211\; Dating and Dragons &#8211\; Webster Groves\, MO
DTSTART:20250918T190000Z
DTEND:20250918T000000Z
SUMMARY:YA Romance/Romantasy Panel
URL;VALUE=URI:
DTSTAMP:20260421T081850Z
UID:69e732ea6b913
END:VEVENT
END:VCALENDAR